Workbook

Sheet laskuri
A1: Ohje | B1: Mitta-avustaja: ruokolahtelainen esiliina (Lahden museot 2430:986)
E2: piilota sarake → | G2: Tämä työkirja ei käytä makroja. Jos haluat käyttöön automaattiset laskurit, käytä makrollista versiota.
B3: täytä nämä mitat itse
B4: luku haetaan automaattisesti
B5: huomioi tämä
G8: Ohje
B9: kuviokertojen määrä | D9: 7 | G9: 1. Määritä esiliinan mitat käsin (voit tehdä muutoksia suoraan lukuihin)
A11: 1 | B11: Määritä mitat | D11: korkeus | G11: -Kommenteissa (violetti merkki) vinkkejä mittoihin.
B12: osa | D12: (cm)
B13: vyötärökaitale | D13: 1.6 | G13: - Voit muuttaa kuviokertojen määrää, mutta tässä esiliinamallissa se ei välttämättä kannata.
B14: alkupalttina | D14: 9.8
B15: kapea raita | D15: 1.8
B16: leveä raita | D16: 2.8 | G16: -Jos haluat käyttää mittojen laskemiseen automaattista laskuria, käytä tämän ohjeen makrollista versiota.
B17: välipalttina | D17: 1.5
B18: loppupalttina ja -raita | D18: 1
B19: reunakaitaleen leveys | D19: 1.8
B20: saumavarat | D20: 1
B21: päärmevarat | D21: 1.2
B22: pitsi | D22: 2
B23: hapsut | D23: 2.5
B24: tavoitepituus | D24: =SUM(D13+D14+(D15+D16+D17*2)*D9-D17+D18+D21/3+D22+D23) -> 69 | E24: =D13+D14+(D15+D16+D17*2)*D9-D17+D18+D21/3+D22+D23 -> 69
G25: Alustava kudontasuunnitelma näyttää osat kudontajärjestyksessä. Taulukko käyttää antamiasi mittoja.
A27: 2 | B27: Alustava kudontasuunnitelma | D27: Kutistuma
C28: cm | D28: 0.07 | G28: 2. TÄYTÄ oranssiin ruutuun, paljonko odotat kankaan kutistuvan
B29: vyötärökaitale | C29: =D13*2+D20*2 -> 5.2 | D29: =ROUND(C29+C29*$D$28,1) -> 5.6 | E29: =C29 -> 5.2
B30: saumavara | C30: =D20 -> 1 | D30: =ROUND(C30+C30*$D$28,1) -> 1.1 | E30: =C30 -> 1 | G30: - Taulukko laskee asettamasi prosentin perusteella kudottavan kankaan mitat. Tästä eteenpäin käytetään kutistamattoman kankaan mittoja
B31: alkupalttina | C31: =D14 -> 9.8 | D31: =ROUND(C31+C31*$D$28,1) -> 10.5 | E31: =C31 -> 9.8
B33: kapea raita | C33: =D15 -> 1.8 | D33: =ROUND(C33+C33*$D$28,1) -> 1.9
B34: välipalttina | C34: =D17 -> 1.5 | D34: =ROUND(C34+C34*$D$28,1) -> 1.6 | G34: - Taulukko laskee yhteen kudottavan kankaan pituuden. Tämä luku kertoo suunnilleen, paljonko tarvitset loimea.
B35: leveä raita | C35: =D16 -> 2.8 | D35: =ROUND(C35+C35*$D$28,1) -> 3
B36: välipalttina | C36: =D17 -> 1.5 | D36: =ROUND(C36+C36*$D$28,1) -> 1.6
B37: toista x | C37: =D9-1 -> 6 | D37: mutta jätä viimeinen välipalttina kutomatta | E37: =SUM(C33:C36)*D9-C36 -> 51.7
B38: loppupalttina | C38: =0.6*D18 -> 0.6 | D38: =ROUND(C38+C38*$D$28,1) -> 0.6 | E38: =C38 -> 0.6 | G38: ="- Pyöristyksen takia kankaan kokonaispituus saattaa vähän heittää. Tässä kankaassa kullekin osalle on laskettu "&(D28*100)&" %:n kutistuminen. Koko kankaalle se tekee "&E47&" %." -> - Pyöristyksen takia kankaan kokonaispituus saattaa vähän heittää. Tässä kankaassa kullekin osalle on laskettu 7 %:n kutistuminen. Koko kankaalle se tekee 6,5 %.
B39: loppuraita | C39: =0.4*D18 -> 0.4 | D39: =ROUND(C39+C39*$D$28,1) -> 0.4 | E39: =C39 -> 0.4
B40: päärmevara | C40: =$D$21 -> 1.2 | D40: =ROUND(C40+C40*$D$28,1) -> 1.3 | E40: =C40 -> 1.2
B42: saumavara | C42: =$D$20 -> 1 | D42: =ROUND(C42+C42*$D$28,1) -> 1.1
B43: reunaraita | C43: =D19-C44/3 -> 1.4 | D43: =ROUND(C43+C43*$D$28,1) -> 1.5
B44: päärmevara | C44: =$D$21 -> 1.2 | D44: =ROUND(C44+C44*$D$28,1) -> 1.3
B45: toista x | C45: 2 | E45: =SUM(C42:C44)*3 -> 10.8
B47: Yhteensä | C47: =SUM(E29:E45) -> 80.7 | D47: =ROUND(C47+(C47*D28),1) -> 86.3 | E47: =100*ROUND((D47-C47)/D47,3) -> 6.5 | F47: cm
A49: Ohje | B49: Raita-avustaja: ruokolahtelainen esiliina (Lahden museot 2430:986)
E50: piilota sarake →
B51: täytä tämä | F51: Malliesiliinan langat: Loimi Ne 20/2 puuvillalanka Pirta 60, 2 lankaa piinraossa Loimi 756 lankaa, leveys pirrassa 63 cm Palttinakude Ne 16/2 puuvillalanka Ripsikude värikäs Ne 20/2 puuvillalanka
B52: luku haetaan automaattisesti
B53: huomioi tämä
F64: Alkuperäinen | I64: Malli
B66: Ripsikuteen tiheys kutistamattomassa kankaassa | I66: 3. TÄYTÄ ripsikuteen tiheys (lankaa sentillä) kutistamattomassa kankaassa.
B67: (lankaa/cm) | G67: 35
B69: Kapea raita | I69: - Alkuperäisessä esiliinassa kuteen tiheys on 60 lankaa/cm ja malliesiliinassa 35 lankaa/cm. Nämä ovat kuitenkin kutistetun kankaan tiheyksiä, joten niitä ei kannata tuijottaa liikaa.
G70: Oma
B71: kuteen tiheys (lankaa(cm) | G71: =G67 -> 35
B72: Raidan tavoiteleveys (kutistamaton kangas) | G72: =D33 -> 1.9
B74: Värit | D74: Alkup. | F74: Malli | G74: Oma
B75: punainen | D75: 10 | E75: =D75/$D$94 -> 0.092592593 | F75: 6 | G75: =ROUND($G$71*$G$72*E75,0) -> 6
B76: keltainen | D76: 4 | E76: =D76/$D$94 -> 0.037037037 | F76: 2 | G76: =ROUND($G$71*$G$72*E76,0) -> 2
B77: punainen | D77: 10 | E77: =D77/$D$94 -> 0.092592593 | F77: 6 | G77: =ROUND($G$71*$G$72*E77,0) -> 6
B78: keltainen | D78: 1 | E78: =D78/$D$94 -> 0.0092592593 | F78: 1 | G78: =ROUND($G$71*$G$72*E78,0) -> 1
B79: musta | D79: 1 | E79: =D79/$D$94 -> 0.0092592593 | F79: 1 | G79: =ROUND($G$71*$G$72*E79,0) -> 1
B80: keltainen | D80: 1 | E80: =D80/$D$94 -> 0.0092592593 | F80: 1 | G80: =ROUND($G$71*$G$72*E80,0) -> 1
B81: musta | D81: 1 | E81: =D81/$D$94 -> 0.0092592593 | F81: 1 | G81: =ROUND($G$71*$G$72*E81,0) -> 1 | I81: - Jos muutat "Oma"-sarakkeessa olevien solujen koodia, taulukko menee rikki. Et siis voi tehdä käsin muutoksia laskettuihin lukuihin.
B82: punainen | D82: 14 | E82: =D82/$D$94 -> 0.12962963 | F82: 10 | G82: =ROUND($G$71*$G$72*E82,0) -> 9
B83: musta | D83: 4 | E83: =D83/$D$94 -> 0.037037037 | F83: 2 | G83: =ROUND($G$71*$G$72*E83,0) -> 2
B84: punainen | D84: 16 | E84: =D84/$D$94 -> 0.14814815 | F84: 12 | G84: =ROUND($G$71*$G$72*E84,0) -> 10
B85: musta | D85: 4 | E85: =D85/$D$94 -> 0.037037037 | F85: 2 | G85: =ROUND($G$71*$G$72*E85,0) -> 2
B86: punainen | D86: 14 | E86: =D86/$D$94 -> 0.12962963 | F86: 10 | G86: =ROUND($G$71*$G$72*E86,0) -> 9 | I86: - Jos kuteen tiheys on kovin alhainen mutta raidan tavoiteleveys kapea, pyöristyvät keltaiset ja mustat langat helposti nollaan. Nosta tällöin raidan leveyttä tai kasvata kuteen tiheyttä.
B87: keltainen | D87: 1 | E87: =D87/$D$94 -> 0.0092592593 | F87: 1 | G87: =ROUND($G$71*$G$72*E87,0) -> 1
B88: musta | D88: 1 | E88: =D88/$D$94 -> 0.0092592593 | F88: 1 | G88: =ROUND($G$71*$G$72*E88,0) -> 1
B89: keltainen | D89: 1 | E89: =D89/$D$94 -> 0.0092592593 | F89: 1 | G89: =ROUND($G$71*$G$72*E89,0) -> 1
B90: musta | D90: 1 | E90: =D90/$D$94 -> 0.0092592593 | F90: 1 | G90: =ROUND($G$71*$G$72*E90,0) -> 1
B91: punainen | D91: 10 | E91: =D91/$D$94 -> 0.092592593 | F91: 6 | G91: =ROUND($G$71*$G$72*E91,0) -> 6 | I91: =IF(E96=0,"👍","Pyöristyksen takia tässä on "&E96&" lankaa liian "&E97&", eli raidasta tulee "&ROUND(E96/G67*10,0)&" mm suunnittelemaasi "&E98&" "&E99) -> Pyöristyksen takia tässä on 2 lankaa liian paljon, eli raidasta tulee 1 mm suunnittelemaasi paksumpi (mikä on ok)
B92: keltainen | D92: 4 | E92: =D92/$D$94 -> 0.037037037 | F92: 2 | G92: =ROUND($G$71*$G$72*E92,0) -> 2
B93: punainen | D93: 10 | E93: =D93/$D$94 -> 0.092592593 | F93: 6 | G93: =ROUND($G$71*$G$72*E93,0) -> 6
B94: yhteensä | D94: =SUM(D75:D93) -> 108 | E94: =SUM(E75:E93) -> 1 | F94: =SUM(F75:F93) -> 72 | G94: =SUM(G75:G93) -> 68
E95: =ROUND(G71*G72-G94,0) -> -2
E96: =ABS(E95) -> 2
B97: Leveä raita | E97: =IF(E95<0,"paljon","vähän") -> paljon
E98: =IF(E95<0,"paksumpi","kapeampi") -> paksumpi | G98: Oma
B99: kuteen tiheys (lankaa(cm) | E99: =IF(ROUND(E96/G67,1)<0.2,"(mikä on ok)","(mikä on aika paljon)") -> (mikä on ok) | G99: =$G$67 -> 35
B100: Raidan tavoiteleveys (kutistamaton kangas) | G100: =D35 -> 3
B102: Värit | D102: Alkup. | F102: Malli | G102: Oma
B103: punainen | D103: 8 | E103: =D103/$D$124 -> 0.048192771 | F103: 6 | G103: =ROUND($G$99*$G$100*E103,0) -> 5
B104: vihreä | D104: 4 | E104: =D104/$D$124 -> 0.024096386 | F104: 2 | G104: =ROUND($G$99*$G$100*E104,0) -> 3
B105: punainen | D105: 8 | E105: =D105/$D$124 -> 0.048192771 | F105: 6 | G105: =ROUND($G$99*$G$100*E105,0) -> 5
B106: vihreä | D106: 4 | E106: =D106/$D$124 -> 0.024096386 | F106: 2 | G106: =ROUND($G$99*$G$100*E106,0) -> 3
B107: punainen | D107: 40 | E107: =D107/$D$124 -> 0.24096386 | F107: 26 | G107: =ROUND($G$99*$G$100*E107,0) -> 25
B108: vihreä | D108: 4 | E108: =D108/$D$124 -> 0.024096386 | F108: 2 | G108: =ROUND($G$99*$G$100*E108,0) -> 3
B109: punainen | D109: 8 | E109: =D109/$D$124 -> 0.048192771 | F109: 4 | G109: =ROUND($G$99*$G$100*E109,0) -> 5
B110: keltainen | D110: 3 | E110: =D110/$D$124 -> 0.018072289 | F110: 3 | G110: =ROUND($G$99*$G$100*E110,0) -> 2
B111: punainen | D111: 3 | E111: =D111/$D$124 -> 0.018072289 | F111: 3 | G111: =ROUND($G$99*$G$100*E111,0) -> 2
B112: vihreä | D112: 1 | E112: =D112/$D$124 -> 0.0060240964 | F112: 1 | G112: =ROUND($G$99*$G$100*E112,0) -> 1
B113: punainen | D113: 1 | E113: =D113/$D$124 -> 0.0060240964 | F113: 1 | G113: =ROUND($G$99*$G$100*E113,0) -> 1
B114: vihreä | D114: 1 | E114: =D114/$D$124 -> 0.0060240964 | F114: 1 | G114: =ROUND($G$99*$G$100*E114,0) -> 1
... B120: vihreä | D120: 4 | E120: =D120/$D$124 -> 0.024096386 | F120: 2 | G120: =ROUND($G$99*$G$100*E120,0) -> 3
B121: punainen | D121: 8 | E121: =D121/$D$124 -> 0.048192771 | F121: 6 | G121: =ROUND($G$99*$G$100*E121,0) -> 5 | I121: =IF(E126=0,"👍","Pyöristyksen takia tässä on "&E126&" lankaa liian "&E127&", eli raidasta tulee "&ROUND(E126/G99*10,0)&" mm suunnittelemaasi "&E128&" "&E129) -> Pyöristyksen takia tässä on 3 lankaa liian paljon, eli raidasta tulee 1 mm suunnittelemaasi paksumpi (mikä on ok)
B122: vihreä | D122: 4 | E122: =D122/$D$124 -> 0.024096386 | F122: 2 | G122: =ROUND($G$99*$G$100*E122,0) -> 3
B123: punainen | D123: 8 | E123: =D123/$D$124 -> 0.048192771 | F123: 6 | G123: =ROUND($G$99*$G$100*E123,0) -> 5
B124: yhteensä | D124: =SUM(D103:D123) -> 166 | E124: =SUM(E103:E123) -> 1 | F124: =SUM(F103:F123) -> 110 | G124: =SUM(G103:G123) -> 108
E125: =ROUND(G99*G100-G124,0) -> -3
E126: =ABS(E125) -> 3
E127: =IF(E125<0,"paljon","vähän") -> paljon
...

Sheet tuloste
A1: Valmiin esiliinan pituus | F1: =laskuri!D24+(-1)*laskuri!E171/laskuri!G67*(1-laskuri!D28) -> 69.93 | G1: cm
A2: Kudottavan kankaan pituus | F2: =laskuri!D47+(-1)*laskuri!E171/laskuri!G67 -> 87.3 | G2: cm
A3: Raitaryhmien määrä | F3: =laskuri!D9 -> 7
A4: Kuteen tiheys ripsiraidoissa (lankaa/cm) | F4: =laskuri!G67 -> 35
A5: Kankaan arvioitu kutistuminen | F5: =laskuri!D28 -> 0.07
A6: ="Saumavarat "&laskuri!D20&" cm, päärmevarat "&laskuri!D21&" cm." -> Saumavarat 1 cm, päärmevarat 1,2 cm.
A8: Kudontaohje
A9: ="Kudo vyötärökaitaletta, saumavaraa ja alkupalttinaa varten tavallista palttinaa "&(SUM(laskuri!D29:D31)&" cm") -> Kudo vyötärökaitaletta, saumavaraa ja alkupalttinaa varten tavallista palttinaa 17,2 cm
A11: Aloita ensimmäinen kuviokerta raitoja
B12: ="Kudo "&laskuri!D33&" cm kapea raita." -> Kudo 1,9 cm kapea raita.
B13: punainen | D13: =laskuri!G75 -> 6
B14: keltainen | D14: =laskuri!G76 -> 2
B15: punainen | D15: =laskuri!G77 -> 6
B16: keltainen | D16: =laskuri!G78 -> 1
B17: musta | D17: =laskuri!G79 -> 1
B18: keltainen | D18: =laskuri!G80 -> 1
B19: musta | D19: =laskuri!G81 -> 1
B20: punainen | D20: =laskuri!G82 -> 9
B21: musta | D21: =laskuri!G83 -> 2
B22: punainen | D22: =laskuri!G84 -> 10
B23: musta | D23: =laskuri!G85 -> 2
B24: punainen | D24: =laskuri!G86 -> 9
... B31: punainen | D31: =laskuri!G93 -> 6
B33: ="Kudo "&laskuri!$D$34&" cm tavallista palttinaa." -> Kudo 1,6 cm tavallista palttinaa.
B35: ="Kudo "&laskuri!D35&" cm leveä raita." -> Kudo 3 cm leveä raita.
B36: punainen | D36: =laskuri!G103 -> 5
B37: vihreä | D37: =laskuri!G104 -> 3
B38: punainen | D38: =laskuri!G105 -> 5
B39: vihreä | D39: =laskuri!G106 -> 3
B40: punainen | D40: =laskuri!G107 -> 25 | E40: ="eli noin "&(ROUND(D40/laskuri!$G$99,1))&" cm punaista ripsiä" -> eli noin 0,7 cm punaista ripsiä
B41: vihreä | D41: =laskuri!G108 -> 3
B42: punainen | D42: =laskuri!G109 -> 5
B43: keltainen | D43: =laskuri!G110 -> 2
B44: punainen | D44: =laskuri!G111 -> 2
B45: vihreä | D45: =laskuri!G112 -> 1
B46: punainen | D46: =laskuri!G113 -> 1
B47: vihreä | D47: =laskuri!G114 -> 1
B48: punainen | D48: =laskuri!G115 -> 1
B49: keltainen | D49: =laskuri!G116 -> 2
B50: punainen | D50: =laskuri!G117 -> 5
B51: vihreä | D51: =laskuri!G118 -> 3
B52: punainen | D52: =laskuri!G119 -> 25 | E52: ="eli noin "&(ROUND(D52/laskuri!$G$99,1))&" cm punaista ripsiä" -> eli noin 0,7 cm punaista ripsiä
B53: vihreä | D53: =laskuri!G120 -> 3
B54: punainen | D54: =laskuri!G121 -> 5
B55: vihreä | D55: =laskuri!G122 -> 3
B56: punainen | D56: =laskuri!G123 -> 5
B58: ="Kudo "&laskuri!$D$34&" cm palttinaa." -> Kudo 1,6 cm palttinaa.
A60: ="Toista kuviokerta "&(laskuri!D9-1)&" kertaa." -> Toista kuviokerta 6 kertaa.
A61: Älä kuitenkaan kudo viimeisen kuviokerran viimeistä välipalttinaa.
A63: ="Kudo palttinaa "&laskuri!D38&" cm." -> Kudo palttinaa 0,6 cm.
A64: ="Kudo "&laskuri!D39&" cm leveä loppuraita:" -> Kudo 0,4 cm leveä loppuraita:
B65: punainen | D65: =laskuri!G162 -> 6
B66: keltainen | D66: =laskuri!G163 -> 3
B67: punainen | D67: =laskuri!G164 -> 5
A68: ="Kudo päärmevara "&laskuri!D40&" cm." -> Kudo päärmevara 1,3 cm.
A70: Seuraavaksi kudo reunaraidat.
A71: Aloita ensimmäinen kuviokerta:
B72: ="Kudo palttinaa saumavara "&laskuri!D42&" cm." -> Kudo palttinaa saumavara 1,1 cm.
B73: ="Kudo "&laskuri!D43&" cm ripsiraita:" -> Kudo 1,5 cm ripsiraita:
B74: punainen | D74: =laskuri!G136 -> 10
B75: valkoinen | D75: =laskuri!G137 -> 8
B76: punainen | D76: =laskuri!G138 -> 7
B77: musta | D77: =laskuri!G139 -> 2
B78: punainen | D78: =laskuri!G140 -> 2
B79: musta | D79: =laskuri!G141 -> 1
B80: keltainen | D80: =laskuri!G142 -> 1
B81: musta | D81: =laskuri!G143 -> 1
B82: keltainen | D82: =laskuri!G144 -> 1
B83: punainen | D83: =laskuri!G145 -> 2
B84: musta | D84: =laskuri!G146 -> 2
B85: punainen | D85: =laskuri!G147 -> 6
... B87: punainen | D87: =laskuri!G149 -> 8
B89: ="Kudo palttinaa päärmevara "&laskuri!D44&" cm." -> Kudo palttinaa päärmevara 1,3 cm.
A90: Toista reunaraidan vaiheet vielä kaksi kertaa.
A91: Esiliinakangas on nyt valmis. Kutista kangas kastelemalla se läpikotaisin. Esiliinaan tarvitset lisäksi:
B92: =laskuri!D22&" cm leveän pitsin" -> 2 cm leveän pitsin
B93: =laskuri!D23&" cm pitkät hapsut" -> 2,5 cm pitkät hapsut
A94: ="Ennen ompelua leikkaa kankaan alusta "&laskuri!C29&" cm leveä kaitale vyötärökaitaleeksi. Leikkaa kankaan lopusta kolme reunakaitaletta sauma- ja päärmevaroineen." -> Ennen ompelua leikkaa kankaan alusta 5,2 cm leveä kaitale vyötärökaitaleeksi. Leikkaa kankaan lopusta kolme reunakaitaletta sauma- ja päärmevaroineen.
