Workbook

Sheet laskuri
A1: Ohje | B1: Mitta-avustaja: ruokolahtelainen esiliina (Lahden museot 2430:986)
E2: piilota sarake → | G2: Tämä työkirja ei käytä makroja. Jos haluat käyttöön automaattiset laskurit, käytä makrollista versiota.
B3: täytä nämä mitat itse
B4: luku haetaan automaattisesti
B5: huomioi tämä
G8: Ohje
B9: kuviokertojen määrä | D9: 7 | G9: 1. Määritä esiliinan mitat käsin (voit tehdä muutoksia suoraan lukuihin)
A11: 1 | B11: Määritä mitat | D11: korkeus | G11: -Kommenteissa (violetti merkki) vinkkejä mittoihin.
B12: osa | D12: (cm)
B13: vyötärökaitale | D13: 1.6 | G13: - Voit muuttaa kuviokertojen määrää, mutta tässä esiliinamallissa se ei välttämättä kannata.
B14: alkupalttina | D14: 9.8
B15: kapea raita | D15: 1.8
B16: leveä raita | D16: 2.8 | G16: -Jos haluat käyttää mittojen laskemiseen automaattista laskuria, käytä tämän ohjeen makrollista versiota.
B17: välipalttina | D17: 1.5
B18: loppupalttina ja -raita | D18: 1
B19: reunakaitaleen leveys | D19: 1.8
B20: saumavarat | D20: 1
B21: päärmevarat | D21: 1.2
B22: pitsi | D22: 2
B23: hapsut | D23: 2.5
B24: tavoitepituus | D24: =SUM(D13+D14+(D15+D16+D17*2)*D9-D17+D18+D21/3+D22+D23) -> 69 | E24: =D13+D14+(D15+D16+D17*2)*D9-D17+D18+D21/3+D22+D23 -> 69
G25: Alustava kudontasuunnitelma näyttää osat kudontajärjestyksessä. Taulukko käyttää antamiasi mittoja.
A27: 2 | B27: Alustava kudontasuunnitelma | D27: Kutistuma
C28: cm | D28: 0.07 | G28: 2. TÄYTÄ oranssiin ruutuun, paljonko odotat kankaan kutistuvan
B29: vyötärökaitale | C29: =D13*2+D20*2 -> 5.2 | D29: =ROUND(C29+C29*$D$28,1) -> 5.6 | E29: =C29 -> 5.2
B30: saumavara | C30: =D20 -> 1 | D30: =ROUND(C30+C30*$D$28,1) -> 1.1 | E30: =C30 -> 1 | G30: - Taulukko laskee asettamasi prosentin perusteella kudottavan kankaan mitat. Tästä eteenpäin käytetään kutistamattoman kankaan mittoja
B31: alkupalttina | C31: =D14 -> 9.8 | D31: =ROUND(C31+C31*$D$28,1) -> 10.5 | E31: =C31 -> 9.8
B33: kapea raita | C33: =D15 -> 1.8 | D33: =ROUND(C33+C33*$D$28,1) -> 1.9
B34: välipalttina | C34: =D17 -> 1.5 | D34: =ROUND(C34+C34*$D$28,1) -> 1.6 | G34: - Taulukko laskee yhteen kudottavan kankaan pituuden. Tämä luku kertoo suunnilleen, paljonko tarvitset loimea.
B35: leveä raita | C35: =D16 -> 2.8 | D35: =ROUND(C35+C35*$D$28,1) -> 3
B36: välipalttina | C36: =D17 -> 1.5 | D36: =ROUND(C36+C36*$D$28,1) -> 1.6
B37: toista x | C37: =D9-1 -> 6 | D37: mutta jätä viimeinen välipalttina kutomatta | E37: =SUM(C33:C36)*D9-C36 -> 51.7
B38: loppupalttina | C38: =0.6*D18 -> 0.6 | D38: =ROUND(C38+C38*$D$28,1) -> 0.6 | E38: =C38 -> 0.6 | G38: ="- Pyöristyksen takia kankaan kokonaispituus saattaa vähän heittää. Tässä kankaassa kullekin osalle on laskettu "&(D28*100)&" %:n kutistuminen. Koko kankaalle se tekee "&E47&" %." -> - Pyöristyksen takia kankaan kokonaispituus saattaa vähän heittää. Tässä kankaassa kullekin osalle on laskettu 7 %:n kutistuminen. Koko kankaalle se tekee 6,5 %.
B39: loppuraita | C39: =0.4*D18 -> 0.4 | D39: =ROUND(C39+C39*$D$28,1) -> 0.4 | E39: =C39 -> 0.4
B40: päärmevara | C40: =$D$21 -> 1.2 | D40: =ROUND(C40+C40*$D$28,1) -> 1.3 | E40: =C40 -> 1.2
B42: saumavara | C42: =$D$20 -> 1 | D42: =ROUND(C42+C42*$D$28,1) -> 1.1
B43: reunaraita | C43: =D19-C44/3 -> 1.4 | D43: =ROUND(C43+C43*$D$28,1) -> 1.5
B44: päärmevara | C44: =$D$21 -> 1.2 | D44: =ROUND(C44+C44*$D$28,1) -> 1.3
B45: toista x | C45: 2 | E45: =SUM(C42:C44)*3 -> 10.8
B47: Yhteensä | C47: =SUM(E29:E45) -> 80.7 | D47: =ROUND(C47+(C47*D28),1) -> 86.3 | E47: =100*ROUND((D47-C47)/D47,3) -> 6.5 | F47: cm
...

Sheet tuloste
A1: Valmiin esiliinan pituus | F1: =laskuri!D24+(-1)*laskuri!E171/laskuri!G67*(1-laskuri!D28) -> 69.93 | G1: cm
A2: Kudottavan kankaan pituus | F2: =laskuri!D47+(-1)*laskuri!E171/laskuri!G67 -> 87.3 | G2: cm
A3: Raitaryhmien määrä | F3: =laskuri!D9 -> 7
A4: Kuteen tiheys ripsiraidoissa (lankaa/cm) | F4: =laskuri!G67 -> 35
A5: Kankaan arvioitu kutistuminen | F5: =laskuri!D28 -> 0.07
A6: ="Saumavarat "&laskuri!D20&" cm, päärmevarat "&laskuri!D21&" cm." -> Saumavarat 1 cm, päärmevarat 1,2 cm.
A8: Kudontaohje
A9: ="Kudo vyötärökaitaletta, saumavaraa ja alkupalttinaa varten tavallista palttinaa "&(SUM(laskuri!D29:D31)&" cm") -> Kudo vyötärökaitaletta, saumavaraa ja alkupalttinaa varten tavallista palttinaa 17,2 cm
A11: Aloita ensimmäinen kuviokerta raitoja
B12: ="Kudo "&laskuri!D33&" cm kapea raita." -> Kudo 1,9 cm kapea raita.
B13: punainen | D13: =laskuri!G75 -> 6
B14: keltainen | D14: =laskuri!G76 -> 2
B15: punainen | D15: =laskuri!G77 -> 6
B16: keltainen | D16: =laskuri!G78 -> 1
B17: musta | D17: =laskuri!G79 -> 1
B18: keltainen | D18: =laskuri!G80 -> 1
B19: musta | D19: =laskuri!G81 -> 1
B20: punainen | D20: =laskuri!G82 -> 9
B21: musta | D21: =laskuri!G83 -> 2
B22: punainen | D22: =laskuri!G84 -> 10
B23: musta | D23: =laskuri!G85 -> 2
B24: punainen | D24: =laskuri!G86 -> 9
... B31: punainen | D31: =laskuri!G93 -> 6
B33: ="Kudo "&laskuri!$D$34&" cm tavallista palttinaa." -> Kudo 1,6 cm tavallista palttinaa.
B35: ="Kudo "&laskuri!D35&" cm leveä raita." -> Kudo 3 cm leveä raita.
B36: punainen | D36: =laskuri!G103 -> 5
B37: vihreä | D37: =laskuri!G104 -> 3
B38: punainen | D38: =laskuri!G105 -> 5
B39: vihreä | D39: =laskuri!G106 -> 3
B40: punainen | D40: =laskuri!G107 -> 25 | E40: ="eli noin "&(ROUND(D40/laskuri!$G$99,1))&" cm punaista ripsiä" -> eli noin 0,7 cm punaista ripsiä
B41: vihreä | D41: =laskuri!G108 -> 3
B42: punainen | D42: =laskuri!G109 -> 5
B43: keltainen | D43: =laskuri!G110 -> 2
B44: punainen | D44: =laskuri!G111 -> 2
B45: vihreä | D45: =laskuri!G112 -> 1
B46: punainen | D46: =laskuri!G113 -> 1
B47: vihreä | D47: =laskuri!G114 -> 1
B48: punainen | D48: =laskuri!G115 -> 1
B49: keltainen | D49: =laskuri!G116 -> 2
B50: punainen | D50: =laskuri!G117 -> 5
...
